BEGIN:VCALENDAR
VERSION:2.0
PRODID:-//Sabina Public Library - ECPv6.15.20//NONSGML v1.0//EN
CALSCALE:GREGORIAN
METHOD:PUBLISH
X-WR-CALNAME:Sabina Public Library
X-ORIGINAL-URL:https://sabinalibrary.com
X-WR-CALDESC:Events for Sabina Public Library
REFRESH-INTERVAL;VALUE=DURATION:PT1H
X-Robots-Tag:noindex
X-PUBLISHED-TTL:PT1H
BEGIN:VTIMEZONE
TZID:UTC
BEGIN:STANDARD
TZOFFSETFROM:+0000
TZOFFSETTO:+0000
TZNAME:UTC
DTSTART:20240101T000000
END:STANDARD
END:VTIMEZONE
BEGIN:VEVENT
DTSTART;TZID=UTC:20250922T100000
DTEND;TZID=UTC:20250922T190000
DTSTAMP:20260423T014355
CREATED:20250920T003110Z
LAST-MODIFIED:20250920T003134Z
UID:2422-1758535200-1758567600@sabinalibrary.com
SUMMARY:Book & DVD Sale
DESCRIPTION:We have a date set for our Fall Book & DVD Sale. Sale will begin on Monday\, September 22 when we open our doors at 10:00 AM. It will continue during regular library business hours until Saturday\, October 11. Watch for a special offer toward the end of the last week of the sale.\n\n\nHardback & Large Softcover Books – .25 eachPaperbacks – .10 eachDVDs – $1 each \nSee less
URL:https://sabinalibrary.com/event/book-dvd-sale/
ATTACH;FMTTYPE=image/jpeg:https://sabinalibrary.com/wp-content/uploads/2025/09/book-sale.jpg
END:VEVENT
BEGIN:VEVENT
DTSTART;TZID=UTC:20250320T160000
DTEND;TZID=UTC:20250320T170000
DTSTAMP:20260423T014355
CREATED:20180122T153713Z
LAST-MODIFIED:20250317T223127Z
UID:195-1742486400-1742490000@sabinalibrary.com
SUMMARY:LEGO Club
DESCRIPTION:LEGO club is held every Thursday from 4:00 – 5:00 PM. No registration necessary. Open to all ages.
URL:https://sabinalibrary.com/event/lego-club/
LOCATION:Sabina Public Library\, 11 E. Elm St.\, Sabina\, United States (US) — Ohio\, 45169
CATEGORIES:Family Event
ATTACH;FMTTYPE=image/jpeg:https://sabinalibrary.com/wp-content/uploads/2018/01/lego-club.jpg
ORGANIZER;CN="Library Director":MAILTO:info@example.com
END:VEVENT
END:VCALENDAR